
BEGIN:VCALENDAR
VERSION:2.0
PRODID:-//wp-events-plugin.com//7.2.3.1//EN
BEGIN:VEVENT
UID:113@letourne.fr
DTSTART:20230914T100000Z
DTEND:20230914T110000Z
DTSTAMP:20230908T105321Z
URL:https://www.letourne.fr/evenements/seance-bebe-lecteur-9/
SUMMARY:Séance Bébé lecteur
DESCRIPTION:
CATEGORIES:Bibliothèque
LOCATION:Bibliothéque Municipale\, 2 Chem. de Peyroutic\,  Le Tourne\, 335
 50\, France
X-APPLE-STRUCTURED-LOCATION;VALUE=URI;X-ADDRESS=2 Chem. de Peyroutic\,  Le 
 Tourne\, 33550\, France;X-APPLE-RADIUS=100;X-TITLE=Bibliothéque Municipal
 e:geo:0,0
END:VEVENT
END:VCALENDAR