
BEGIN:VCALENDAR
VERSION:2.0
PRODID:-//wp-events-plugin.com//7.2.3.1//EN
BEGIN:VEVENT
UID:182@letourne.fr
DTSTART:20240906T190000Z
DTEND:20240906T234500Z
DTSTAMP:20240826T083630Z
URL:https://www.letourne.fr/evenements/le-tourne-over-des-bandas-7/
SUMMARY:Le Tourne Over des bandas
DESCRIPTION:à partir de 19h - parc de la Mairie\n\nSoirée bandas organis
 ée par les Zim-Boums et le Comité des fêtes\nBuvette et restauration su
 r place\nInfos : 06 18 51 45 95 / leszimboums@wanadoo.fr
ATTACH;FMTTYPE=image/jpeg:https://www.letourne.fr/wp-content/uploads/2024/
 03/bandas.jpg
CATEGORIES:Associations
END:VEVENT
END:VCALENDAR