
BEGIN:VCALENDAR
VERSION:2.0
PRODID:-//wp-events-plugin.com//7.2.3.1//EN
BEGIN:VEVENT
UID:203@letourne.fr
DTSTART:20250118T160000Z
DTEND:20250118T160000Z
DTSTAMP:20250106T073333Z
URL:https://www.letourne.fr/evenements/ceremonie-des-voeux-2025/
SUMMARY:Cérémonie des voeux 2025
DESCRIPTION:Marie-Claude Agullana\, Maire\nle Conseil Municipal\net les age
 nts de la Commune du Tourne\n\nVous souhaitent une bonne année 2025 et vo
 us invitent à la cérémonie des voeux \n\n&nbsp\;\n
ATTACH;FMTTYPE=image/jpeg:https://www.letourne.fr/wp-content/uploads/2024/
 12/carte-de-voeux-2025-mairie-scaled.jpeg
CATEGORIES:Espace culturel
LOCATION:Salle de la mairie\, 2 chemin de Peyroutic\, Le Tourne\, 33550\, F
 rance
X-APPLE-STRUCTURED-LOCATION;VALUE=URI;X-ADDRESS=2 chemin de Peyroutic\, Le 
 Tourne\, 33550\, France;X-APPLE-RADIUS=100;X-TITLE=Salle de la mairie:geo:
 0,0
END:VEVENT
END:VCALENDAR