
BEGIN:VCALENDAR
VERSION:2.0
PRODID:-//wp-events-plugin.com//7.2.3.1//EN
BEGIN:VEVENT
UID:186@letourne.fr
DTSTART:20241018T170000Z
DTEND:20241018T190000Z
DTSTAMP:20240328T111930Z
URL:https://www.letourne.fr/evenements/atelier-creation-de-stop-motion/
SUMMARY:Atelier création de stop motion
DESCRIPTION:Venez découvrir la pratique du Stop Motion et créer des mini 
 vidéos à partir de vos propres photos numériques. Laissez libre court 
 à votre créativité pour mettre en scène votre imaginaire sur le thème
  des émotions.\n(Atelier parent-enfant/ Matériel nécessaire : smartphon
 e + éléments de décors)
ATTACH;FMTTYPE=image/jpeg:https://www.letourne.fr/wp-content/uploads/2024/
 03/stop-motion.png
CATEGORIES:Bibliothèque
LOCATION:Bibliothéque Municipale\, 2 Chem. de Peyroutic\,  Le Tourne\, 335
 50\, France
X-APPLE-STRUCTURED-LOCATION;VALUE=URI;X-ADDRESS=2 Chem. de Peyroutic\,  Le 
 Tourne\, 33550\, France;X-APPLE-RADIUS=100;X-TITLE=Bibliothéque Municipal
 e:geo:0,0
END:VEVENT
END:VCALENDAR