
BEGIN:VCALENDAR
VERSION:2.0
PRODID:-//wp-events-plugin.com//7.2.3.1//EN
BEGIN:VEVENT
UID:184@letourne.fr
DTSTART:20240921T093000Z
DTEND:20240921T173000Z
DTSTAMP:20240328T111136Z
URL:https://www.letourne.fr/evenements/atelier-couture-kretamode-12/
SUMMARY:Atelier couture Krétamode
DESCRIPTION:de 9h30 à 17h30 - Salle de la Mairie\nRéalisation d’un sac 
 cabas ou d’un tote bag (Débutant.es)\nUn atelier encadré par une créa
 trice et couturière professionnelle.\nInscription : Florence - 06 79 71 5
 0 73 / kretamode@laposte.net
ATTACH;FMTTYPE=image/jpeg:https://www.letourne.fr/wp-content/uploads/2024/
 03/pochettes-scaled.jpg
CATEGORIES:Associations
LOCATION:Salle de la mairie\, 2 chemin de Peyroutic\, Le Tourne\, 33550\, F
 rance
X-APPLE-STRUCTURED-LOCATION;VALUE=URI;X-ADDRESS=2 chemin de Peyroutic\, Le 
 Tourne\, 33550\, France;X-APPLE-RADIUS=100;X-TITLE=Salle de la mairie:geo:
 0,0
END:VEVENT
END:VCALENDAR