
BEGIN:VCALENDAR
VERSION:2.0
PRODID:-//wp-events-plugin.com//7.2.3.1//EN
BEGIN:VEVENT
UID:313@letourne.fr
DTSTART:20260508T101500Z
DTEND:20260508T120000Z
DTSTAMP:20260421T071139Z
URL:https://www.letourne.fr/evenements/10109/
SUMMARY:Cérémonie commémorative du 8 mai 1945
DESCRIPTION:L'Amicale des Anciens Combattants Langoiran - Le Tourne\,\nMich
 el Taillet - Maire du Tourne\,\nMalika Milon - Maire de Langoiran\,\nvous 
 convient à la cérémonie 81ème cérémonie commémorative de la victoir
 e du 8 mai 1945\n\nVendredi 8 mai 2026\n10h15 Monument aux morts de Langoi
 ran\n10h45 Monument aux morts du Tourne\n\nLa cérémonie sera suivie d'un
  vin d'honneur offert par la municipalité du Tourne
ATTACH;FMTTYPE=image/jpeg:https://www.letourne.fr/wp-content/uploads/2026/
 04/Post-Instagram-evenement-Armistice-11-novembre.png
END:VEVENT
END:VCALENDAR